BEGIN:VCALENDAR
VERSION:2.0
PRODID:-//SET Centre - ECPv6.15.20//NONSGML v1.0//EN
CALSCALE:GREGORIAN
METHOD:PUBLISH
X-WR-CALNAME:SET Centre
X-ORIGINAL-URL:https://setspace.uk
X-WR-CALDESC:Events for SET Centre
REFRESH-INTERVAL;VALUE=DURATION:PT1H
X-Robots-Tag:noindex
X-PUBLISHED-TTL:PT1H
BEGIN:VTIMEZONE
TZID:Europe/London
BEGIN:DAYLIGHT
TZOFFSETFROM:+0000
TZOFFSETTO:+0100
TZNAME:BST
DTSTART:20250330T010000
END:DAYLIGHT
BEGIN:STANDARD
TZOFFSETFROM:+0100
TZOFFSETTO:+0000
TZNAME:GMT
DTSTART:20251026T010000
END:STANDARD
BEGIN:DAYLIGHT
TZOFFSETFROM:+0000
TZOFFSETTO:+0100
TZNAME:BST
DTSTART:20260329T010000
END:DAYLIGHT
BEGIN:STANDARD
TZOFFSETFROM:+0100
TZOFFSETTO:+0000
TZNAME:GMT
DTSTART:20261025T010000
END:STANDARD
BEGIN:DAYLIGHT
TZOFFSETFROM:+0000
TZOFFSETTO:+0100
TZNAME:BST
DTSTART:20270328T010000
END:DAYLIGHT
BEGIN:STANDARD
TZOFFSETFROM:+0100
TZOFFSETTO:+0000
TZNAME:GMT
DTSTART:20271031T010000
END:STANDARD
END:VTIMEZONE
BEGIN:VEVENT
DTSTART;TZID=Europe/London:20260419T113000
DTEND;TZID=Europe/London:20260419T133000
DTSTAMP:20260419T142124
CREATED:20260317T103713Z
LAST-MODIFIED:20260318T133339Z
UID:10018958-1776598200-1776605400@setspace.uk
SUMMARY:Sunday Creative Writing Course: Five Weeks of Spring
DESCRIPTION:Join writer and teacher\, Anna Dempsey\, for this five-week course of guided fiction writing\, sharing words in a tender\, supportive community. \n\n\n\nThis course is perfect for writers of any stage who want to explore their voice\, try new ideas\, finish a writing project or connect with fellow creatives in a relaxed and welcoming environment. Each week\, you will focus on different elements of short story and novel writing including plot\, dialogue\, character\, setting and pacing. You’ll be looking at spring inspired writing and pop culture to do this. Think the ridiculous film Spring Breakers meets Anne of Green Gables meets Mary Oliver in a field of sunflowers. \n\n\n\nThese five weeks are a great time to start a new short story\, novel or dive back into some old idea notebooks. \n\n\n\nCourse details\n\n\n\nWhen: Every Sunday from 29 March\, 11.30am-1.30pmDates: 29 March\, 12 April\, 19 April\, 26 April\, 3 May(Please note we are skipping Easter Sunday on 5 April) \n\n\n\nWhere: SET Social\, 55a Nigel Road\, Peckham\, SE15 4NP \n\n\n\nWhat to expect: \n\n\n\n\nGuided writing exercises each week\, handouts and optional writing homework\n\n\n\nOpportunities to share your work out loud with a welcoming group\n\n\n\nA chance to be part of a creative community (yay friends)\n\n\n\nEach week\, two writers share up to 2\,500 words and receive thoughtful feedback from Anna and the group\n\n\n\n\nThe bar and cafe will be open throughout the workshop\, providing coffee\, tea and other refreshments. \n\n\n\n***This course is an inclusive feminist space open to all. Writing or behaviour that includes transphobia\, homophobia\, sexism\, racism\, or other forms of discrimination will not be accepted.*** \n\n\n\nTickets: From £170. More information on pricings can be found on Ticket Tailor. \n\n\n\nBook a ticket\n\n\n\n\n\n\n\nOrganiser details: Led by local writer\, grief researcher and teacher Anna Dempsey. You can read more about her work at annadempsey.me For any enquires\, please contact thegrovewrites@gmail.com
URL:https://setspace.uk/event/sunday-creative-writing-course-five-weeks-of-spring/2026-04-19/
LOCATION:SET Social\, 55a Nigel Road\, London\, SE15 4NP\, United Kingdom
CATEGORIES:Crits,Workshops and Talks,writing
ATTACH;FMTTYPE=image/png:https://setspace.uk/wp-content/uploads/2026/03/SPRING-1.png
END:VEVENT
BEGIN:VEVENT
DTSTART;TZID=Europe/London:20260419T140000
DTEND;TZID=Europe/London:20260419T160000
DTSTAMP:20260419T142124
CREATED:20250211T134426Z
LAST-MODIFIED:20260107T185734Z
UID:10009037-1776607200-1776614400@setspace.uk
SUMMARY:SET Social DIY Community Garden - Sunday Gardening Sessions
DESCRIPTION:Ever wanted to grow your own food\, or just spend a quiet Sunday surrounded by green things and good people?The DIY Community Garden at SET Social is a shared space for planting\, learning\, and spending time together outdoors. Whether you’re watering seedlings\, pulling weeds\, sharing snacks\, or simply sitting in the sunshine\, there’s always something gentle and satisfying happening in the garden. \n\n\n\nThe garden is looked after collectively by SET Social members\, local neighbours\, and anyone curious enough to get their hands a little dirty. We grow vegetables\, herbs\, and flowers\, and care for the space with curiosity\, collaboration\, and kindness at the heart of things. \n\n\n\nSunday sessions are open\, informal\, and pressure-free. No gardening experience is needed and there’s no expectation to stay the whole time. Bring yourself\, a mug for tea\, and if you like\, a plant or cutting to share. \n\n\n\nWant to get involved?\n\n\n\nDrop by during one of our gardening sessions every Sunday 2-4pm. No booking or experience required. \n\n\n\nYou can also join the SET Garden WhatsApp group to hear about upcoming sessions\, plant swaps\, and ways to help out. \n\n\n\nFollow along on Instagram at @set_social_community_garden for more updates and glimpses of what’s growing.
URL:https://setspace.uk/event/set-social-diy-community-garden-sunday-gardening-sessions/2026-04-19/
LOCATION:SET Social\, 55a Nigel Road\, London\, SE15 4NP\, United Kingdom
CATEGORIES:community,Workshops and Talks
ATTACH;FMTTYPE=image/jpeg:https://setspace.uk/wp-content/uploads/2025/02/SET-Social-community-garden-poster-1.jpg
END:VEVENT
BEGIN:VEVENT
DTSTART;TZID=Europe/London:20260419T140000
DTEND;TZID=Europe/London:20260419T170000
DTSTAMP:20260419T142124
CREATED:20260309T143957Z
LAST-MODIFIED:20260403T095656Z
UID:10018289-1776607200-1776618000@setspace.uk
SUMMARY:Decent Homes for All: Collaborative Banner Making Workshop
DESCRIPTION:Join The Etch Collective for a collaborative banner-making workshop exploring care\, community and housing justice through collective textile making. \n\n\n\nFacilitated by artist Jill Laudet\, the session connects to her project Decent Homes for All\, a domestic shrine to social housing and the aspiration of decent homes for everyone. The work reflects on the importance of a safe and secure home and invites reflection on housing\, community and collective care. \n\n\n\nDuring the workshop\, participants will work together to create a large fabric banner inspired by these ideas. Through shared making\, attendees are invited to explore themes of mutual support\, home and belonging while contributing to a communal artwork. \n\n\n\nA selection of fabrics\, trimmings\, sewing equipment and motif templates will be provided. Participants are also encouraged to bring along any fabric scraps\, textiles or embellishments they would like to incorporate into the banner. \n\n\n\nThe finished banner will form part of a communal art installation and will be exhibited at the launch of Utility\, an upcoming publication by The Etch Collective. \n\n\n\nNo prior sewing or art experience is needed and the workshop is open to everyone. \n\n\n\nEvent details\n\n\n\nDate: Sunday 19 AprilTime: 2-5pmLocation: SET Social\, 55a Nigel Road\, Peckham SE15 4NPTickets: Free. Booking required via Eventbrite \n\n\n\nBook a free ticket\n\n\n\nAbout the organisers: The Etch Collective was founded by three artists seeking to build stronger creative communities and connect with fellow practitioners. The collective runs critique sessions\, group exhibitions and workshops that support emerging artists and encourage experimentation. \n\n\n\nTheir programme welcomes participants of all backgrounds and experience levels\, creating inclusive spaces for creativity\, collaboration and learning.
URL:https://setspace.uk/event/decent-homes-for-all-collaborative-banner-making-workshop/
LOCATION:SET Social\, 55a Nigel Road\, London\, SE15 4NP\, United Kingdom
ATTACH;FMTTYPE=image/jpeg:https://setspace.uk/wp-content/uploads/2026/03/Unknown.jpeg
END:VEVENT
BEGIN:VEVENT
DTSTART;TZID=Europe/London:20260419T140000
DTEND;TZID=Europe/London:20260419T150000
DTSTAMP:20260419T142124
CREATED:20260413T145655Z
LAST-MODIFIED:20260413T145657Z
UID:10023999-1776607200-1776610800@setspace.uk
SUMMARY:Earth Day Badge Making 
DESCRIPTION:Hosted by Shona Coyne\, come and celebrate Earth Day and make a badge using images from vintage gardening/ plant books and scrap papers. \n\n\n\nAll materials are provided\, and mini collage badges can be added to your bags & clothes\, etc. This workshop is a wonderful opportunity to feel inspired by beautiful flowers whilst enjoying the SET Social community garden and connecting to nature ahead of Earth Day. \n\n\n\nWhat you will get with your ticket: \n\n\n\nA creative hour collaging in SET Socials community garden! \n\n\n\n1 hour of collaging\, guided by Shona\, using vintage plant images\, & photos from Shona’s archive/ studio scraps. \n\n\n\nBadges to take home and attach to bags\, upcycle tops or gift to someone special. \n\n\n\nShona Coyne is an artist\, photographer & gardener & her practice explores sustainable design\, creative workshops & collage. She runs nature based creative workshops reusing & repurposing materials and running projects to support peoples connection to nature.
URL:https://setspace.uk/event/earth-day-badge-making/
LOCATION:SET Social\, 55a Nigel Road\, London\, SE15 4NP\, United Kingdom
ATTACH;FMTTYPE=image/jpeg:https://setspace.uk/wp-content/uploads/2026/04/EarthDayBadgeMaking_19April2026_3.jpg
ORGANIZER;CN="Shona Coyne":MAILTO:shonamariecoyne@gmail.com
END:VEVENT
BEGIN:VEVENT
DTSTART;TZID=Europe/London:20260419T150000
DTEND;TZID=Europe/London:20260419T170000
DTSTAMP:20260419T142124
CREATED:20260415T011607Z
LAST-MODIFIED:20260415T011654Z
UID:10024064-1776610800-1776618000@setspace.uk
SUMMARY:Club Bananas: Spirals Collage Workshop
DESCRIPTION:Club Bananas returns to SET Social this April with a new collage theme: Spirals.  \n\n\n\nFollowing the past few months of workshops centred around nature-inspired themes such as Spring\, Blossom and Freshness\, this session takes a slightly different direction. Spirals are a recurring focus in Banana Holdwin’s current artwork. Found across cultures for thousands of years\, they appear in early Maltese\, Siberian\, Polynesian\, Chinese and African artworks\, and are often understood as cosmic\, protective or mystical forms. \n\n\n\nLed by local artist Banana Holdwin\, Club Bananas is an inclusive art club centred on craft-making\, collage and mixed media experimentation. The sessions centre creativity without pressure\, encouraging participants to explore freely\, embrace messiness and enjoy the process rather than focus on perfection. It is a space to connect with others\, experiment creatively and let your inner child play. \n\n\n\nEach month introduces a new theme while keeping mixed media at the heart of the practice. Participants are always welcome to follow their own ideas alongside the theme. \n\n\n\nSession focus\n\n\n\nThis session explores spiral-inspired collage using scrap paper\, magazines and found materials. Spirals are often linked to cycles\, movement and transformation\, from the motion of the sun and moon to ideas of growth and spiritual development. In some traditions\, such as Buddhism and Hinduism\, spiral forms appear in symbols like the Unalome\, representing a path towards awareness or enlightenment. \n\n\n\nApproach the theme literally by cutting and layering spiral shapes\, or take a more abstract route by exploring ideas such as cycles\, energy\, nature or transformation within your collage. \n\n\n\nAll materials are provided\, including collage supplies and scrap materials\, but you are warmly encouraged to bring magazines\, coloured paper\, postcards\, stickers or any additional materials you would like to use. \n\n\n\nSessions now take place in the Red Bar at SET Social and run on a pay what you can basis. \n\n\n\nEvent details\n\n\n\nDate: Sunday 19 AprilTimes: 3-5pmLocation: SET Social\, Red Bar\, 55a Nigel Road\, Peckham SE15 4NPTickets: Pay what you can \n\n\n\nBook tickets\n\n\n\nAbout Club Bananas: Club Bananas is an art club led by local artist Banana Holdwin\, focusing on collage and mixed media making through recycled and found materials. The sessions prioritise experimentation\, accessibility and community\, offering a playful environment for people of all ages and abilities to make work together.
URL:https://setspace.uk/event/club-bananas-spirals-collage-workshop/
LOCATION:SET Social\, 55a Nigel Road\, London\, SE15 4NP\, United Kingdom
CATEGORIES:Art,Social,Workshops and Talks
ATTACH;FMTTYPE=image/png:https://setspace.uk/wp-content/uploads/2026/04/Spirals-collage-workshop.png
END:VEVENT
BEGIN:VEVENT
DTSTART;TZID=Europe/London:20260419T190000
DTEND;TZID=Europe/London:20260419T230000
DTSTAMP:20260419T142124
CREATED:20260403T100124Z
LAST-MODIFIED:20260403T100918Z
UID:10017930-1776625200-1776639600@setspace.uk
SUMMARY:Sunday Open Session with Folk of the Round Table
DESCRIPTION:Join Folk of the Round Table at SET Social from 7pm every Sunday for their weekly folk jam session. \n\n\n\nThis inclusive gathering celebrates the oratory tradition of sharing songs\, stories and poems around a fire\, by a hearth or in a tavern. Bring an instrument if you have one\, and a traditional song you’d like to perform or pass on. \n\n\n\nIt’s called folk music for a reason. The night is about people coming together to keep these traditions alive and build community through shared music. Every session is different\, but the ethos remains the same: all abilities\, all welcome. \n\n\n\nFolk of the Round Table have proudly hosted this folk night for over eight years\, connecting singers and musicians from around the world. \n\n\n\nCome along and join the circle. \n\n\n\nEvent details\n\n\n\nWhen: Every Sunday from 7pmLocation: SET Social\, 55a Nigel Road\, Peckham\, SE15 4NPEntry: Free
URL:https://setspace.uk/event/sunday-open-session-with-folk-of-the-round-table-set-social/2026-04-19/
LOCATION:SET Social\, 55a Nigel Road\, London\, SE15 4NP\, United Kingdom
CATEGORIES:Collaboration,community,Music,Performance
ATTACH;FMTTYPE=image/png:https://setspace.uk/wp-content/uploads/2024/03/SET-WEBSITE-FOTRT.png
END:VEVENT
END:VCALENDAR