BEGIN:VCALENDAR
VERSION:2.0
PRODID:-//SET Centre - ECPv6.15.20//NONSGML v1.0//EN
CALSCALE:GREGORIAN
METHOD:PUBLISH
X-WR-CALNAME:SET Centre
X-ORIGINAL-URL:https://setspace.uk
X-WR-CALDESC:Events for SET Centre
REFRESH-INTERVAL;VALUE=DURATION:PT1H
X-Robots-Tag:noindex
X-PUBLISHED-TTL:PT1H
BEGIN:VTIMEZONE
TZID:Europe/London
BEGIN:DAYLIGHT
TZOFFSETFROM:+0000
TZOFFSETTO:+0100
TZNAME:BST
DTSTART:20250330T010000
END:DAYLIGHT
BEGIN:STANDARD
TZOFFSETFROM:+0100
TZOFFSETTO:+0000
TZNAME:GMT
DTSTART:20251026T010000
END:STANDARD
BEGIN:DAYLIGHT
TZOFFSETFROM:+0000
TZOFFSETTO:+0100
TZNAME:BST
DTSTART:20260329T010000
END:DAYLIGHT
BEGIN:STANDARD
TZOFFSETFROM:+0100
TZOFFSETTO:+0000
TZNAME:GMT
DTSTART:20261025T010000
END:STANDARD
BEGIN:DAYLIGHT
TZOFFSETFROM:+0000
TZOFFSETTO:+0100
TZNAME:BST
DTSTART:20270328T010000
END:DAYLIGHT
BEGIN:STANDARD
TZOFFSETFROM:+0100
TZOFFSETTO:+0000
TZNAME:GMT
DTSTART:20271031T010000
END:STANDARD
END:VTIMEZONE
BEGIN:VEVENT
DTSTART;TZID=Europe/London:20260421T180000
DTEND;TZID=Europe/London:20260421T230000
DTSTAMP:20260421T123229
CREATED:20260413T144635Z
LAST-MODIFIED:20260413T144638Z
UID:10023808-1776794400-1776812400@setspace.uk
SUMMARY:html club
DESCRIPTION:html club is a bi-weekly free-write event. here everyone is invited to join and to come and code alongside us!  \n\n\n\nit’s good to put time into practice\, and sometimes that can be hard — this club serves as a moment and a space for individuals to put time into their projects. \n\n\n\nso come and bring your laptop and code alongside new found friends.  \n\n\n\npsa: this is not a workshop. there will be no formal teaching during this event. keep updated with cranberrylemonade for more focused html workshops. 
URL:https://setspace.uk/event/html-club/2026-04-21/
LOCATION:SET Social\, 55a Nigel Road\, London\, SE15 4NP\, United Kingdom
ATTACH;FMTTYPE=image/jpeg:https://setspace.uk/wp-content/uploads/2026/04/HtmlClub_21April2026.jpeg
ORGANIZER;CN="html club":MAILTO:iheartcranberrylemonade@gmail.com
END:VEVENT
BEGIN:VEVENT
DTSTART;TZID=Europe/London:20260421T190000
DTEND;TZID=Europe/London:20260421T210000
DTSTAMP:20260421T123229
CREATED:20260415T012028Z
LAST-MODIFIED:20260415T012030Z
UID:10024065-1776798000-1776805200@setspace.uk
SUMMARY:Analogue Animation Workshop
DESCRIPTION:Curious about animation beyond screens and software? \n\n\n\nThis hands-on workshop offers an introduction to analogue and handmade animation techniques\, as part of an ongoing monthly series focused on experimentation\, play\, and learning by doing. Each session explores a different approach to making moving images using tactile\, low-tech methods. \n\n\n\nLed by artist and animator\, Miranda Peyton Jones\, the workshop is designed as an open\, supportive space to try new ideas\, learn practical techniques\, and meet others interested in experimental animation. Participants can expect to leave with a short piece of moving image\, along with printed materials created during the session. \n\n\n\nNo previous animation or drawing experience is required. All materials are provided\, and participants are welcome to bring their own materials if they wish.Please note that you will need a smartphone with the free Stop Motion Studio app downloaded before attending. \n\n\n\nEvent details\n\n\n\nTime and dates: Tuesday 21 April\, from 7-9pm \n\n\n\nTickets are available via Eventbrite: \n\n\n\n\n£8 concessions\n\n\n\n£14 standard\n\n\n\n\nGet tickets
URL:https://setspace.uk/event/analogue-animation-workshop-21-april-set-social/
LOCATION:SET Social\, 55a Nigel Road\, London\, SE15 4NP\, United Kingdom
CATEGORIES:Art,Club,Collaboration,Social,Workshops and Talks
ATTACH;FMTTYPE=image/png:https://setspace.uk/wp-content/uploads/2026/04/Analogue-Animation-Workshop-21-April.png
END:VEVENT
BEGIN:VEVENT
DTSTART;TZID=Europe/London:20260421T203000
DTEND;TZID=Europe/London:20260421T223000
DTSTAMP:20260421T123229
CREATED:20260209T163228Z
LAST-MODIFIED:20260209T163346Z
UID:10017215-1776803400-1776810600@setspace.uk
SUMMARY:SET Social Quiz
DESCRIPTION:Think you know your trivia from your tabloid headlines? Join us every Tuesday evening at SET Social for our weekly pub quiz. \n\n\n\nThe SET Social Quiz is a relaxed\, friendly night of questions\, laughs\, and a little healthy competition. Expect a mix of general knowledge\, pop culture\, music\, and surprises along the way. Come with a team or find one on the night. Everyone is welcome\, from seasoned quiz pros to first timers. \n\n\n\nEntry is £2 per person\, with cash and bar prizes up for grabs. Settle in\, grab a drink\, and put your knowledge to the test. \n\n\n\nEvent details\n\n\n\nWhen: Every TuesdayTime: 8.30-10.30pmLocation: SET Social\, 55a Nigel Road\, Peckham SE15 4NPEntry: £2 per person. Pay on the door.
URL:https://setspace.uk/event/set-social-quiz/2026-04-21/
LOCATION:SET Social\, 55a Nigel Road\, London\, SE15 4NP\, United Kingdom
ATTACH;FMTTYPE=image/jpeg:https://setspace.uk/wp-content/uploads/2026/02/Quiz-night.jpg
END:VEVENT
END:VCALENDAR