BEGIN:VCALENDAR
VERSION:2.0
PRODID:-//SET Centre - ECPv6.15.20//NONSGML v1.0//EN
CALSCALE:GREGORIAN
METHOD:PUBLISH
X-ORIGINAL-URL:https://setspace.uk
X-WR-CALDESC:Events for SET Centre
REFRESH-INTERVAL;VALUE=DURATION:PT1H
X-Robots-Tag:noindex
X-PUBLISHED-TTL:PT1H
BEGIN:VTIMEZONE
TZID:Europe/London
BEGIN:DAYLIGHT
TZOFFSETFROM:+0000
TZOFFSETTO:+0100
TZNAME:BST
DTSTART:20230326T010000
END:DAYLIGHT
BEGIN:STANDARD
TZOFFSETFROM:+0100
TZOFFSETTO:+0000
TZNAME:GMT
DTSTART:20231029T010000
END:STANDARD
BEGIN:DAYLIGHT
TZOFFSETFROM:+0000
TZOFFSETTO:+0100
TZNAME:BST
DTSTART:20240331T010000
END:DAYLIGHT
BEGIN:STANDARD
TZOFFSETFROM:+0100
TZOFFSETTO:+0000
TZNAME:GMT
DTSTART:20241027T010000
END:STANDARD
BEGIN:DAYLIGHT
TZOFFSETFROM:+0000
TZOFFSETTO:+0100
TZNAME:BST
DTSTART:20250330T010000
END:DAYLIGHT
BEGIN:STANDARD
TZOFFSETFROM:+0100
TZOFFSETTO:+0000
TZNAME:GMT
DTSTART:20251026T010000
END:STANDARD
END:VTIMEZONE
BEGIN:VEVENT
DTSTART;TZID=Europe/London:20240208T000000
DTEND;TZID=Europe/London:20240218T235959
DTSTAMP:20260423T214855
CREATED:20240129T131713Z
LAST-MODIFIED:20240130T125937Z
UID:10004070-1707350400-1708300799@setspace.uk
SUMMARY:Unknown Territory
DESCRIPTION:Opening: Thursday 8 February\, 6.30pm-9pmExhibition Continues: Thursday-Sunday\, 12-6pm until Sunday 18 February‘Things emerge\, we turn them over and they disappear.’ \n\n\n\nUnknown Territory is a group exhibition that investigates our human interactions\, weaving daily rituals\, the search for intimacy\, and the remnants left by industrial living to forge new dialogues.  \n\n\n\nArtists Alex Stone\, Ben Topping\, and Valentino Vannini respond to the gallery space\, delving into the synergies of their practices to create a collaborative installation where the boundaries between their work and the site become indistinct. Working from the formal arrangement of the space and using grids of many forms as a starting point\, they have utilised materials such as concrete\, lipstick\, copper\, and hair in order to observe and conduct urban rituals\, considering both the past and future histories of the space. They invite the viewer to observe from the distance of the street and wander within. 
URL:https://setspace.uk/event/unknown-territory/
LOCATION:SET Lewisham\, Unit 1\, Lewisham Retail Park\, London\, SE13 7RZ\, United Kingdom
CATEGORIES:Exhibition
ATTACH;FMTTYPE=image/jpeg:https://setspace.uk/wp-content/uploads/2024/01/IMG_20240128_113732_462-scaled.jpg
END:VEVENT
BEGIN:VEVENT
DTSTART;TZID=Europe/London:20240229T000000
DTEND;TZID=Europe/London:20240317T235959
DTSTAMP:20260423T214855
CREATED:20240223T132201Z
LAST-MODIFIED:20240223T132207Z
UID:10004200-1709164800-1710719999@setspace.uk
SUMMARY:OUTSIDE IN
DESCRIPTION:PV: 29 February 6pm-8.30pm \n\n\n\nA group exhibition of 10 women artists curated by Anna Lytridou. Opening hours Thursdays- Saturdays from 12:00-16:00 or by appointment by emailing info@annalytridou.com \n\n\n\nWorks by:@anja_aichinger@anna_lytridou@annareading@brigitte_parusel@eleanorbedlow@jennieuwland@jillianknipestudio@juliefhill@linda_hemmersbach@stacie_art
URL:https://setspace.uk/event/outside-in/
LOCATION:SET Ealing\, 105-113 Broadway\, London\, W13 9BE\, United Kingdom
CATEGORIES:Exhibition
END:VEVENT
BEGIN:VEVENT
DTSTART;TZID=Europe/London:20240229T133000
DTEND;TZID=Europe/London:20240324T180000
DTSTAMP:20260423T214855
CREATED:20240215T163354Z
LAST-MODIFIED:20240305T143409Z
UID:10004196-1709213400-1711303200@setspace.uk
SUMMARY:I will live many years in this room
DESCRIPTION:SET are delighted to announce ‘𝙄 𝙬𝙞𝙡𝙡 𝙡𝙞𝙫𝙚 𝙢𝙖𝙣𝙮 𝙮𝙚𝙖𝙧𝙨 𝙞𝙣 𝙩𝙝𝙞𝙨 𝙧𝙤𝙤𝙢’\, a solo exhibition from artist Ashleigh Fisk\, with new writing by Gwen Dupré.Opening on the leap year\, a day often regarded as a fracture in standard time\, the exhibition takes the historic practice of letter locking as its starting point – a method of intricately cutting and folding a written letter in order to seal it\, thereby ensuring the secrecy of its contents and verifying the author’s identity.Working in dialogue with writer and researcher Gwen Dupré\, Fisk utilises craft and storytelling traditions to conjure objects infused with queered and collective histories: ceramics\, iron-gall ink\, and materials foraged near Fisk’s home in Sussex are enclosed and entrusted with messages of secret desire. SET Lewisham’s gallery will be recomposed as a domestic space\, reflective of womens’ ubiquitous experiences of mental and physical confinement as well as comfort and solace. Furnishings\, objects and stained glass create a playful\, anachronistic room in which many lives\, both real and imagined\, have been lived.Over the course of the show\, the exhibition will host a series of public workshops and gatherings ranging from visual scribing and letter locking to queer reading groups. Dates and booking information to be announced.Exhibition opens Thursday 29 February 6pm – 9pmExhibition continues Thursday – Sunday\, 1.30pm – 6pm until 24 MarchSupported using public funding from Arts Council England.Work by @ashleigh_fisk and writing by @gwenrcdupre#acesupported
URL:https://setspace.uk/event/i-will-live-many-years-in-this-room/
LOCATION:SET Lewisham\, Unit 1\, Lewisham Retail Park\, London\, SE13 7RZ\, United Kingdom
CATEGORIES:Exhibition,Performance,Workshops and Talks
ATTACH;FMTTYPE=image/jpeg:https://setspace.uk/wp-content/uploads/2024/02/AshleighFisk-Red-scaled.jpg
END:VEVENT
END:VCALENDAR