BEGIN:VCALENDAR
VERSION:2.0
PRODID:-//SET Centre - ECPv6.15.20//NONSGML v1.0//EN
CALSCALE:GREGORIAN
METHOD:PUBLISH
X-ORIGINAL-URL:https://setspace.uk
X-WR-CALDESC:Events for SET Centre
REFRESH-INTERVAL;VALUE=DURATION:PT1H
X-Robots-Tag:noindex
X-PUBLISHED-TTL:PT1H
BEGIN:VTIMEZONE
TZID:Europe/London
BEGIN:DAYLIGHT
TZOFFSETFROM:+0000
TZOFFSETTO:+0100
TZNAME:BST
DTSTART:20230326T010000
END:DAYLIGHT
BEGIN:STANDARD
TZOFFSETFROM:+0100
TZOFFSETTO:+0000
TZNAME:GMT
DTSTART:20231029T010000
END:STANDARD
BEGIN:DAYLIGHT
TZOFFSETFROM:+0000
TZOFFSETTO:+0100
TZNAME:BST
DTSTART:20240331T010000
END:DAYLIGHT
BEGIN:STANDARD
TZOFFSETFROM:+0100
TZOFFSETTO:+0000
TZNAME:GMT
DTSTART:20241027T010000
END:STANDARD
BEGIN:DAYLIGHT
TZOFFSETFROM:+0000
TZOFFSETTO:+0100
TZNAME:BST
DTSTART:20250330T010000
END:DAYLIGHT
BEGIN:STANDARD
TZOFFSETFROM:+0100
TZOFFSETTO:+0000
TZNAME:GMT
DTSTART:20251026T010000
END:STANDARD
END:VTIMEZONE
BEGIN:VEVENT
DTSTART;TZID=Europe/London:20240425T000000
DTEND;TZID=Europe/London:20240504T235959
DTSTAMP:20260424T035200
CREATED:20240417T145447Z
LAST-MODIFIED:20240417T151151Z
UID:10006723-1714003200-1714867199@setspace.uk
SUMMARY:Funny Dread
DESCRIPTION:Private View: Thursday 25 April\, 6 – 9 PM Exhibition Open: Thurs – Sat\, 25 April – 4 May\, 12 – 6 PM  \n\n\n\nA group exhibition at SET Ealing exploring humour in the absurd. \n\n\n\nArt has long served as a tool for exploring the meaning of life\, and the gallery space can be a place where we can react to the reality of existence. Much like in Albert Camus’s ‘The Myth of Sisyphus’\, we repeat the same actions again and again\, only sometimes acknowledging the pointlessness of it all. Although often bleak\, there is humour in the ridiculousness of being.  \n\n\n\nThe ‘Benign Violation Theory’ attempts to explain humour’s existence\, claiming that it only occurs when something seems wrong\, unsettling\, or threatening\, but simultaneously seems okay\, acceptable or safe. The works in this show explore this contradiction between the dull and nonsensical\, the dreary and silly; the funny ridiculousness of being alive. \n\n\n\n‘Funny Dread’ will run until 04 May 2024. \n\n\n\nCurators: (francesca_dobbe_)and Laura Sutton (@lk_sutton). \n\n\n\nArtists: @studio.edie@sassyli@kialytihngang@nhensey@youkiyin@lk_sutton@francesca_dobbe_ \n\n\n\nCuratorial Assistant: @dhurga_
URL:https://setspace.uk/event/funny-dread/
LOCATION:SET Ealing\, 105-113 Broadway\, London\, W13 9BE\, United Kingdom
CATEGORIES:Exhibition
ATTACH;FMTTYPE=image/jpeg:https://setspace.uk/wp-content/uploads/2024/04/434696070_1892160087910108_4637947155849737705_n.jpg
END:VEVENT
END:VCALENDAR