BEGIN:VCALENDAR
VERSION:2.0
PRODID:-//SET Centre - ECPv6.15.20//NONSGML v1.0//EN
CALSCALE:GREGORIAN
METHOD:PUBLISH
X-WR-CALNAME:SET Centre
X-ORIGINAL-URL:https://setspace.uk
X-WR-CALDESC:Events for SET Centre
REFRESH-INTERVAL;VALUE=DURATION:PT1H
X-Robots-Tag:noindex
X-PUBLISHED-TTL:PT1H
BEGIN:VTIMEZONE
TZID:Europe/London
BEGIN:DAYLIGHT
TZOFFSETFROM:+0000
TZOFFSETTO:+0100
TZNAME:BST
DTSTART:20230326T010000
END:DAYLIGHT
BEGIN:STANDARD
TZOFFSETFROM:+0100
TZOFFSETTO:+0000
TZNAME:GMT
DTSTART:20231029T010000
END:STANDARD
BEGIN:DAYLIGHT
TZOFFSETFROM:+0000
TZOFFSETTO:+0100
TZNAME:BST
DTSTART:20240331T010000
END:DAYLIGHT
BEGIN:STANDARD
TZOFFSETFROM:+0100
TZOFFSETTO:+0000
TZNAME:GMT
DTSTART:20241027T010000
END:STANDARD
BEGIN:DAYLIGHT
TZOFFSETFROM:+0000
TZOFFSETTO:+0100
TZNAME:BST
DTSTART:20250330T010000
END:DAYLIGHT
BEGIN:STANDARD
TZOFFSETFROM:+0100
TZOFFSETTO:+0000
TZNAME:GMT
DTSTART:20251026T010000
END:STANDARD
END:VTIMEZONE
BEGIN:VEVENT
DTSTART;TZID=Europe/London:20240614T000000
DTEND;TZID=Europe/London:20240623T235959
DTSTAMP:20260424T070703
CREATED:20240604T142910Z
LAST-MODIFIED:20240606T155542Z
UID:10007049-1718323200-1719187199@setspace.uk
SUMMARY:RELATIVE SHAPES
DESCRIPTION:Exhibition opens: Thursday 13 June 6-9 pm. Opening times: Wednesday – Sunday\, 12-6pmAn exhibition of artwork created in collaboration with family members. Come along to see drawings\, film and textiles\, listen to sounds and read comics! Join us next Thursday for the opening with drinks and a live performance. Come hang out with your friends and family! \n\n\n\nArtists:@nima.shafiani\, Shahrokh Shafiani\, @till_tools and Sarah Till\, @greezblack and Alex ClaytonnBlack\, @ojillings and @clairejillingsart\, @kingkingstringball442 and @nicpicpurk\, Ricardo Guimarães\, Miquelina Dos Anjos and Manuel Pereira\, @pesoneto_ and Isobel Lwena Turner-Kerr\, @emilymurayama and Yoshihiro Murayama with Fumi Murayama\, @fredsorrell and Rafael Sorrel\, @hallamtwood and @florence.madeleine
URL:https://setspace.uk/event/relative-shapes/
LOCATION:SET Lewisham\, Unit 1\, Lewisham Retail Park\, London\, SE13 7RZ\, United Kingdom
CATEGORIES:Exhibition
ATTACH;FMTTYPE=image/jpeg:https://setspace.uk/wp-content/uploads/2024/06/Poster-2.0.jpg
END:VEVENT
END:VCALENDAR